BEGIN:VCALENDAR
VERSION:2.0
PRODID:-//Limba - ECPv6.15.20//NONSGML v1.0//EN
CALSCALE:GREGORIAN
METHOD:PUBLISH
X-WR-CALNAME:Limba
X-ORIGINAL-URL:https://limba.net
X-WR-CALDESC:Events for Limba
REFRESH-INTERVAL;VALUE=DURATION:PT1H
X-Robots-Tag:noindex
X-PUBLISHED-TTL:PT1H
BEGIN:VTIMEZONE
TZID:America/New_York
BEGIN:DAYLIGHT
TZOFFSETFROM:-0500
TZOFFSETTO:-0400
TZNAME:EDT
DTSTART:20230312T070000
END:DAYLIGHT
BEGIN:STANDARD
TZOFFSETFROM:-0400
TZOFFSETTO:-0500
TZNAME:EST
DTSTART:20231105T060000
END:STANDARD
BEGIN:DAYLIGHT
TZOFFSETFROM:-0500
TZOFFSETTO:-0400
TZNAME:EDT
DTSTART:20240310T070000
END:DAYLIGHT
BEGIN:STANDARD
TZOFFSETFROM:-0400
TZOFFSETTO:-0500
TZNAME:EST
DTSTART:20241103T060000
END:STANDARD
BEGIN:DAYLIGHT
TZOFFSETFROM:-0500
TZOFFSETTO:-0400
TZNAME:EDT
DTSTART:20250309T070000
END:DAYLIGHT
BEGIN:STANDARD
TZOFFSETFROM:-0400
TZOFFSETTO:-0500
TZNAME:EST
DTSTART:20251102T060000
END:STANDARD
END:VTIMEZONE
BEGIN:VEVENT
DTSTART;TZID=America/New_York:20240112T083000
DTEND;TZID=America/New_York:20240112T103000
DTSTAMP:20260424T195828
CREATED:20231214T143922Z
LAST-MODIFIED:20231214T144003Z
UID:45398-1705048200-1705055400@limba.net
SUMMARY:Propel NY- Building a Robust Electric Distribution System With Steve Cole-Hatchard
DESCRIPTION:Steve Cole-Hatchard serves as the Project Director for New York Transco LLC\, where he is responsible for all project development activities associated with the Propel New York Energy\nProject\, a transformative electric transmission project.\nPrior to this position\, Steve was NY Transco’s Senior Project Manager for the Rock Tavern to Sugarloaf Project\, an electric transmission project in Orange County that\, under his management\, was permitted in less than a year\, and built and put into service 18 months ahead of schedule.\nSteve started his career at Consolidated Edison Company of New York\, Inc.\, where he held many roles including gas operations Operating Supervisor for gas operations and Chief Construction Inspector in substation and transmission construction.\nSteve’s expertise is centered around management\, permitting and construction of underground and overhead electric transmission lines and substations in congested urban and suburban areas.\nSteve holds a Bachelor of Science in Civil Engineering from Manhattan College and a Master of Business Administration with specializations in Corporate Finance\, Management\, and Real Estate from New York University’s Stern School of Business.
URL:https://limba.net/calendar/propel-ny-building-a-robust-electric-distribution-system-with-steve-cole-hatchard/
LOCATION:Candlelight Diner\, 56 Veterans Memorial Hwy\, Commack\, NY\, 11725\, United States
ATTACH;FMTTYPE=image/png:https://limba.net/wp-content/uploads/2023/12/cole-hatchard.png
END:VEVENT
BEGIN:VEVENT
DTSTART;TZID=America/New_York:20240126T083000
DTEND;TZID=America/New_York:20240126T100000
DTSTAMP:20260424T195828
CREATED:20240109T132617Z
LAST-MODIFIED:20240109T132617Z
UID:45426-1706257800-1706263200@limba.net
SUMMARY:Congressional Update With Congressman Nick LaLota
DESCRIPTION:U.S. Representative Nick LaLota (NY-01) was first sworn into office in January 2023. Nick’s father served as a Nassau County Police Officer\, his grandfathers served in the NYPD\, and his stepfather served in the Navy.\nAfter graduating from St. Anthony’s High School\, Nick matriculated to the United States Naval Academy. Upon graduating\, Nick entered the Navy and attained the rank of Lieutenant. He served as a Surface Warfare Officer and Tactical Action Officer. He deployed overseas on three separate occasions and to twenty countries.\nAfter leaving the Navy\, Nick went on to serve on the Amityville Board of Trustees\, Commissioner of the Suffolk County Board of Elections\, and as Chief of Staff to the Suffolk County Legislature.\nA husband and father\, Nick and his wife Kaylie\, his high school sweetheart\, are raising three daughters.\nNick is a cum laude graduate from Hofstra University’s Zarb School of Business with an MBA and holds a Juris Doctor from Hofstra University’s Maurice A. Deane School of Law.\nNick continues his commitment to serving Long Island in the halls of Congress by fighting to lower taxes for working class Long Islanders\, secure energy independence and defend all of our constitutional freedoms.
URL:https://limba.net/calendar/congressional-update-with-congressman-nick-lalota/
LOCATION:Candlelight Diner\, 56 Veterans Memorial Hwy\, Commack\, NY\, 11725\, United States
ATTACH;FMTTYPE=image/png:https://limba.net/wp-content/uploads/2024/01/nick-lalotta.png
END:VEVENT
END:VCALENDAR