BEGIN:VCALENDAR
VERSION:2.0
PRODID:-//Limba - ECPv6.15.20//NONSGML v1.0//EN
CALSCALE:GREGORIAN
METHOD:PUBLISH
X-WR-CALNAME:Limba
X-ORIGINAL-URL:https://limba.net
X-WR-CALDESC:Events for Limba
REFRESH-INTERVAL;VALUE=DURATION:PT1H
X-Robots-Tag:noindex
X-PUBLISHED-TTL:PT1H
BEGIN:VTIMEZONE
TZID:America/New_York
BEGIN:DAYLIGHT
TZOFFSETFROM:-0500
TZOFFSETTO:-0400
TZNAME:EDT
DTSTART:20210314T070000
END:DAYLIGHT
BEGIN:STANDARD
TZOFFSETFROM:-0400
TZOFFSETTO:-0500
TZNAME:EST
DTSTART:20211107T060000
END:STANDARD
BEGIN:DAYLIGHT
TZOFFSETFROM:-0500
TZOFFSETTO:-0400
TZNAME:EDT
DTSTART:20220313T070000
END:DAYLIGHT
BEGIN:STANDARD
TZOFFSETFROM:-0400
TZOFFSETTO:-0500
TZNAME:EST
DTSTART:20221106T060000
END:STANDARD
BEGIN:DAYLIGHT
TZOFFSETFROM:-0500
TZOFFSETTO:-0400
TZNAME:EDT
DTSTART:20230312T070000
END:DAYLIGHT
BEGIN:STANDARD
TZOFFSETFROM:-0400
TZOFFSETTO:-0500
TZNAME:EST
DTSTART:20231105T060000
END:STANDARD
END:VTIMEZONE
BEGIN:VEVENT
DTSTART;TZID=America/New_York:20221202T083000
DTEND;TZID=America/New_York:20221202T100000
DTSTAMP:20260424T094553
CREATED:20221122T151221Z
LAST-MODIFIED:20221122T151221Z
UID:44620-1669969800-1669975200@limba.net
SUMMARY:Moving Suffolk County Forward With Dave Calone
DESCRIPTION:Dave Calone is an entrepreneur and investor as well as a former federal prosecutor. He is running for Suffolk County Executive in 2023 when Steve Bellone will leave office due to term limits. \nDave has helped start and build technology companies located throughout the United States. He is a co-inventor on 19 U.S. patents. One of the companies that he co-founded and led was recognized four times by Inc. Magazine as one of the fastest growing private companies in the country. Dave created the Long Island Emerging Technologies Fund which helped launch and provide seed funding for ten early stage companies based on technology developed at the research institutions on Long Island. He also served as founding National Board Chair for Patriot Boot Camp\, a not for profit that helps veterans and active duty service members from around the country start businesses. In 2022\, he engineered the merger of PBC into DAV (Disabled American Veterans) where he is now Co-Chair of DAV’s National Veterans Entrepreneurship Council. \nMr. Calone has held a number of roles on Long Island including as Chair of the Suffolk County Planning Commission where he quarterbacked the creation of Suffolk County’s first Comprehensive Plan in nearly 40 years and he spearheaded the LI Unified Solar Permitting Initiative which has since been adopted as a model for permit streamlining across New York State and for which Suffolk County was awarded a National Association of Counties’ National Achievement Award. He served as Chair of Suffolk County’s Superstorm Sandy Review Task Force\, as co-founder of Suffolk County’s “Suffolk Forward” initiative to support small business recovery in the county during the COVID-19 pandemic\, and as Vice Chair of Accelerate LI\, a collaborative effort of Long Island’s research institutions. He is also a Senior Advisor to Long Island Minority Millennials\, an appointed member of the Long Island Manufacturing Task Force\, on the Executive Board of the United Way of Long Island\, on the board of the Community Development Corporation of LI\, on the board of the LI Angel Network\, on the board of Autism Communities\, and on the Dean’s Advisory Board for the Stony Brook University College of Business.
URL:https://limba.net/calendar/moving-suffolk-county-forward-with-dave-calone/
LOCATION:Candlelight Diner\, 56 Veterans Memorial Hwy\, Commack\, NY\, 11725\, United States
ATTACH;FMTTYPE=image/jpeg:https://limba.net/wp-content/uploads/2022/11/unnamed-1.jpg
END:VEVENT
BEGIN:VEVENT
DTSTART;TZID=America/New_York:20221216T140000
DTEND;TZID=America/New_York:20221216T160000
DTSTAMP:20260424T094553
CREATED:20221129T160923Z
LAST-MODIFIED:20221213T211435Z
UID:44646-1671199200-1671206400@limba.net
SUMMARY:LIMBA Holiday Celebration 2022 - CANCELLED
DESCRIPTION:THIS EVENT HAS BEEN CANCELLED
URL:https://limba.net/calendar/limba-holiday-celebration-2022/
LOCATION:Windows on the Lake\, 235 Lake Shore Road\, Ronkonkoma\, NY\, 11779\, United States
ATTACH;FMTTYPE=image/jpeg:https://limba.net/wp-content/uploads/2022/11/319644184_677314220536204_321959052532299601_n.jpg
END:VEVENT
END:VCALENDAR