BEGIN:VCALENDAR
VERSION:2.0
PRODID:-//Limba - ECPv6.15.20//NONSGML v1.0//EN
CALSCALE:GREGORIAN
METHOD:PUBLISH
X-ORIGINAL-URL:https://limba.net
X-WR-CALDESC:Events for Limba
REFRESH-INTERVAL;VALUE=DURATION:PT1H
X-Robots-Tag:noindex
X-PUBLISHED-TTL:PT1H
BEGIN:VTIMEZONE
TZID:America/New_York
BEGIN:DAYLIGHT
TZOFFSETFROM:-0500
TZOFFSETTO:-0400
TZNAME:EDT
DTSTART:20210314T070000
END:DAYLIGHT
BEGIN:STANDARD
TZOFFSETFROM:-0400
TZOFFSETTO:-0500
TZNAME:EST
DTSTART:20211107T060000
END:STANDARD
BEGIN:DAYLIGHT
TZOFFSETFROM:-0500
TZOFFSETTO:-0400
TZNAME:EDT
DTSTART:20220313T070000
END:DAYLIGHT
BEGIN:STANDARD
TZOFFSETFROM:-0400
TZOFFSETTO:-0500
TZNAME:EST
DTSTART:20221106T060000
END:STANDARD
BEGIN:DAYLIGHT
TZOFFSETFROM:-0500
TZOFFSETTO:-0400
TZNAME:EDT
DTSTART:20230312T070000
END:DAYLIGHT
BEGIN:STANDARD
TZOFFSETFROM:-0400
TZOFFSETTO:-0500
TZNAME:EST
DTSTART:20231105T060000
END:STANDARD
END:VTIMEZONE
BEGIN:VEVENT
DTSTART;TZID=America/New_York:20220708T083000
DTEND;TZID=America/New_York:20220708T100000
DTSTAMP:20260420T155602
CREATED:20220609T165242Z
LAST-MODIFIED:20220609T165242Z
UID:44255-1657269000-1657274400@limba.net
SUMMARY:Marc Alessi\, Tesla Science Center
DESCRIPTION:Marc Alessi is an attorney and startup entrepreneur\, he brings to his role at the Tesla Science Center years of experience in the not-for-profit sector serving as the Executive Director of the Business Incubator Association of New York State\, as a board member of Peconic Bay Medical Center and Northwell Health\, a former board member of the East End Arts Council\, Nassau Suffolk Law Services and the Long Island Power Authority.  As a former Assemblyman\, Mr. Alessi was instrumental in securing a $850\,000 grant from New York State to help preserve the Tesla property\, this grant which required a match was the impetus of the world record breaking crowdfund campaign on Indiegogo which raised $1.4 Million in six weeks from 108 countries and 33\,000 investors around the world.  Mr. Alessi has helped to launch and finance a number of start up tech companies on Long Island and is focused on making our region one that rivals and compliments other innovation hotspots from around the world.  Mr. Alessi’s experience in startup enterprise is key to the launching of operations here at the Center.  He sees the Tesla Science Center at Wardenclyffe as an important temple to technology that speaks to the history of innovation\, celebrates and promotes the current role of innovation in our lives\, and inspires future inventors like Nikola Tesla to embrace science and innovation to change the world.
URL:https://limba.net/calendar/marc-alessi-tesla-science-center/
LOCATION:TBD
CATEGORIES:Breakfast Forum
ATTACH;FMTTYPE=image/jpeg:https://limba.net/wp-content/uploads/2022/06/alessi-headshot-2020.jpg
END:VEVENT
BEGIN:VEVENT
DTSTART;TZID=America/New_York:20220722T083000
DTEND;TZID=America/New_York:20220722T100000
DTSTAMP:20260420T155602
CREATED:20220609T165902Z
LAST-MODIFIED:20220609T165902Z
UID:44259-1658478600-1658484000@limba.net
SUMMARY:Victor Mullin\, President\, New York Transco
DESCRIPTION:Victor will be speaking about ‘Improving and Modernizing the Electric Transmission Grid.’
URL:https://limba.net/calendar/victor-mullin-president-new-york-transco/
LOCATION:TBD
CATEGORIES:Breakfast Forum
ATTACH;FMTTYPE=image/jpeg:https://limba.net/wp-content/uploads/2022/06/Vic-headshot-200.jpg
END:VEVENT
END:VCALENDAR