BEGIN:VCALENDAR
VERSION:2.0
PRODID:-//Limba - ECPv6.15.20//NONSGML v1.0//EN
CALSCALE:GREGORIAN
METHOD:PUBLISH
X-WR-CALNAME:Limba
X-ORIGINAL-URL:https://limba.net
X-WR-CALDESC:Events for Limba
REFRESH-INTERVAL;VALUE=DURATION:PT1H
X-Robots-Tag:noindex
X-PUBLISHED-TTL:PT1H
BEGIN:VTIMEZONE
TZID:America/New_York
BEGIN:DAYLIGHT
TZOFFSETFROM:-0500
TZOFFSETTO:-0400
TZNAME:EDT
DTSTART:20210314T070000
END:DAYLIGHT
BEGIN:STANDARD
TZOFFSETFROM:-0400
TZOFFSETTO:-0500
TZNAME:EST
DTSTART:20211107T060000
END:STANDARD
BEGIN:DAYLIGHT
TZOFFSETFROM:-0500
TZOFFSETTO:-0400
TZNAME:EDT
DTSTART:20220313T070000
END:DAYLIGHT
BEGIN:STANDARD
TZOFFSETFROM:-0400
TZOFFSETTO:-0500
TZNAME:EST
DTSTART:20221106T060000
END:STANDARD
BEGIN:DAYLIGHT
TZOFFSETFROM:-0500
TZOFFSETTO:-0400
TZNAME:EDT
DTSTART:20230312T070000
END:DAYLIGHT
BEGIN:STANDARD
TZOFFSETFROM:-0400
TZOFFSETTO:-0500
TZNAME:EST
DTSTART:20231105T060000
END:STANDARD
END:VTIMEZONE
BEGIN:VEVENT
DTSTART;TZID=America/New_York:20220610T083000
DTEND;TZID=America/New_York:20220610T100000
DTSTAMP:20260420T175729
CREATED:20220518T135045Z
LAST-MODIFIED:20220524T134241Z
UID:44241-1654849800-1654855200@limba.net
SUMMARY:The Future of Hydrogen as an Energy Source - June 10th
DESCRIPTION:Hosted by Matthew Aracich\, President\, The Building and Construction Trades of Nassau & Suffolk Counties. Prior to becoming the newly elected President of the NSBCTC\, Matt had served as Business Manager of the Heat and Frost Insulators Local 12.
URL:https://limba.net/calendar/the-future-of-hydrogen-as-a-primary-energy-source-may-10th/
LOCATION:Holiday Inn Express Stony Brook\, 3131 Nesconset Highway\, Nesconset\, NY\, 11720\, United States
CATEGORIES:Breakfast Forum
ATTACH;FMTTYPE=image/jpeg:https://limba.net/wp-content/uploads/2022/05/matthew_arancich.jpg
END:VEVENT
BEGIN:VEVENT
DTSTART;TZID=America/New_York:20220624T083000
DTEND;TZID=America/New_York:20220624T100000
DTSTAMP:20260420T175729
CREATED:20220609T164111Z
LAST-MODIFIED:20220609T164144Z
UID:44250-1656059400-1656064800@limba.net
SUMMARY:Frank Mackay\, President\, WABC Radio - Long Island Division
DESCRIPTION:Frank MacKay is President of WABC Radio – Long Island Division. He is a host of the popular\, award-winning\, radio show Breaking It Down with Frank MacKay and the former longtime Chair of the Independence Party of New York. \nFrank MacKay’s career in public relations\, entertainment and politics spans four decades and encompasses a diversity of fields of work. In 1985\, at the age of 18\, he published his first music publication\, “Network”\, which fast became a hit among music business insiders\, musicians and their fans. Throughout the next ten years\, MacKay built a significant following in the music industry as a band and club promoter. By the age of 25\, he had launched three nightclubs known as Dr. Shay’s and managed entertainers such as Criss Angel and CJ Ramone. \nIn 1992\, MacKay became active in Ross Perot’s third party presidential run. MacKay was always an avid student of politics\, and early in his career in entertainment he helped club-goers register to vote by the thousands. In 1995\, he became a key organizer in the Independence Party and active in third party politics. By the year 2000\, at the age of 32\, MacKay became the youngest State Chairman of a political party in New York State history\, and served as the Independence Party Chair for 20 years. \nHis success in entertainment and politics has been widely reported; MacKay has appeared in hundreds of national\, state and local publications and has developed a niche audience among young political activists. \nFrank MacKay resides in New York with his wife and four children. He served as a Member of the Board of Governors for the Touro Law Center and holds a master’s degree from SUNY\, Stony Brook. In 2008\, he was awarded an Honorary Doctorate from Five Towns College for his accomplishments in business and politics. MacKay is also the author of eight books.
URL:https://limba.net/calendar/in-person-frank-mackay-president-wabc-radio-long-island-division/
LOCATION:Heritage Club at Bethpage\, 99 Quaker Meeting House Road\, Farmingdale\, NY\, 11735\, United States
CATEGORIES:Breakfast Forum
ATTACH;FMTTYPE=image/jpeg:https://limba.net/wp-content/uploads/2022/06/frank_mckay.jpg
END:VEVENT
END:VCALENDAR