BEGIN:VCALENDAR
VERSION:2.0
PRODID:-//Limba - ECPv6.15.20//NONSGML v1.0//EN
CALSCALE:GREGORIAN
METHOD:PUBLISH
X-WR-CALNAME:Limba
X-ORIGINAL-URL:https://limba.net
X-WR-CALDESC:Events for Limba
REFRESH-INTERVAL;VALUE=DURATION:PT1H
X-Robots-Tag:noindex
X-PUBLISHED-TTL:PT1H
BEGIN:VTIMEZONE
TZID:America/New_York
BEGIN:DAYLIGHT
TZOFFSETFROM:-0500
TZOFFSETTO:-0400
TZNAME:EDT
DTSTART:20210314T070000
END:DAYLIGHT
BEGIN:STANDARD
TZOFFSETFROM:-0400
TZOFFSETTO:-0500
TZNAME:EST
DTSTART:20211107T060000
END:STANDARD
BEGIN:DAYLIGHT
TZOFFSETFROM:-0500
TZOFFSETTO:-0400
TZNAME:EDT
DTSTART:20220313T070000
END:DAYLIGHT
BEGIN:STANDARD
TZOFFSETFROM:-0400
TZOFFSETTO:-0500
TZNAME:EST
DTSTART:20221106T060000
END:STANDARD
BEGIN:DAYLIGHT
TZOFFSETFROM:-0500
TZOFFSETTO:-0400
TZNAME:EDT
DTSTART:20230312T070000
END:DAYLIGHT
BEGIN:STANDARD
TZOFFSETFROM:-0400
TZOFFSETTO:-0500
TZNAME:EST
DTSTART:20231105T060000
END:STANDARD
END:VTIMEZONE
BEGIN:VEVENT
DTSTART;TZID=America/New_York:20220506T083000
DTEND;TZID=America/New_York:20220506T100000
DTSTAMP:20260420T195140
CREATED:20220421T155842Z
LAST-MODIFIED:20220421T160000Z
UID:44228-1651825800-1651831200@limba.net
SUMMARY:Long Island Ducks at Fairfield Properties Ballpark
DESCRIPTION:Our next meeting will be at  Fairfield Properties Ballpark\, home of the Long Island Ducks. Frank Boulton will be our speaker on behalf of the Ducks organization. Mr. Boulton created the team and the league in which it plays – The Atlantic League of Professional Baseball.  Frank has a great story. The team began in 2000 and has been a Long Island fixture in sport entertainment for families ever since. Please join us!
URL:https://limba.net/calendar/long-island-ducks-at-fairfield-properties-ballpark/
LOCATION:Fairfield Properties Ballpark\, 3 Court House Drive\, Central Islip\, NY\, 11722\, United States
CATEGORIES:Breakfast Forum
ATTACH;FMTTYPE=image/png:https://limba.net/wp-content/uploads/2022/04/LI_ducks_logo.png
END:VEVENT
BEGIN:VEVENT
DTSTART;TZID=America/New_York:20220520T090000
DTEND;TZID=America/New_York:20220520T100000
DTSTAMP:20260420T195140
CREATED:20220503T153924Z
LAST-MODIFIED:20220510T130519Z
UID:44235-1653037200-1653040800@limba.net
SUMMARY:Virtual Meeting: Anti-Defamation League of NY/NJ Director\, Scott Richman
DESCRIPTION:Register for this zoom meeting:\nScott Richman serves as the Director for ADL’s largest regional office covering New York and New Jersey. He oversees the work of the region\, which includes incident response\, anti-bias education\, legislative initiatives\, educational programs\, fundraising and leadership development – all designed to fight antisemitism and combat hate in all its forms. This is reflected in his weekly national podcast called “From the Frontlines.” He is an experienced advocate dedicated to developing community partnerships and initiatives that provide justice\, equality and fair treatment for all. \nRichman comes to ADL from the American Jewish Committee (AJC) where he served as Regional Director for Westchester (NY) and Fairfield (CT) Counties. In that role\, he was responsible for directing the day-to-day operations of this top regional office dedicated to advocacy on key issues impacting the American Jewish community. \nHe came to AJC as an experienced Jewish professional\, having served for 10 years at the American Jewish Joint Distribution Committee (JDC) aiding the rebirth of Jewish life in the Former Soviet Union\, and three years as the founding Director of Dor Chadash\, a non-profit startup which engaged young professionals in the New York area. \nRichman was a practicing attorney and investment banker before becoming a Jewish professional. He worked at a firm specializing in international law and in public finance at Merrill Lynch. He received his undergraduate degree in finance from the University of Pennsylvania’s Wharton School\, and he earned his law degree from Brooklyn Law School. Scott subsequently completed an executive certificate program at Columbia University’s Business School in nonprofit management. \nScott is married with two grown children and lives in Westchester County.
URL:https://limba.net/calendar/virtual-meeting-anti-defamation-league-of-ny-nj-director-scott-richman/
LOCATION:NY
CATEGORIES:Virtual Meeting
ATTACH;FMTTYPE=image/png:https://limba.net/wp-content/uploads/2022/05/Scott-Richman.png
END:VEVENT
END:VCALENDAR