BEGIN:VCALENDAR
VERSION:2.0
PRODID:-//Limba - ECPv6.15.20//NONSGML v1.0//EN
CALSCALE:GREGORIAN
METHOD:PUBLISH
X-WR-CALNAME:Limba
X-ORIGINAL-URL:https://limba.net
X-WR-CALDESC:Events for Limba
REFRESH-INTERVAL;VALUE=DURATION:PT1H
X-Robots-Tag:noindex
X-PUBLISHED-TTL:PT1H
BEGIN:VTIMEZONE
TZID:America/New_York
BEGIN:DAYLIGHT
TZOFFSETFROM:-0500
TZOFFSETTO:-0400
TZNAME:EDT
DTSTART:20210314T070000
END:DAYLIGHT
BEGIN:STANDARD
TZOFFSETFROM:-0400
TZOFFSETTO:-0500
TZNAME:EST
DTSTART:20211107T060000
END:STANDARD
BEGIN:DAYLIGHT
TZOFFSETFROM:-0500
TZOFFSETTO:-0400
TZNAME:EDT
DTSTART:20220313T070000
END:DAYLIGHT
BEGIN:STANDARD
TZOFFSETFROM:-0400
TZOFFSETTO:-0500
TZNAME:EST
DTSTART:20221106T060000
END:STANDARD
BEGIN:DAYLIGHT
TZOFFSETFROM:-0500
TZOFFSETTO:-0400
TZNAME:EDT
DTSTART:20230312T070000
END:DAYLIGHT
BEGIN:STANDARD
TZOFFSETFROM:-0400
TZOFFSETTO:-0500
TZNAME:EST
DTSTART:20231105T060000
END:STANDARD
END:VTIMEZONE
BEGIN:VEVENT
DTSTART;TZID=America/New_York:20220311T090000
DTEND;TZID=America/New_York:20220311T100000
DTSTAMP:20260420T231323
CREATED:20220224T151347Z
LAST-MODIFIED:20220309T173734Z
UID:44184-1646989200-1646992800@limba.net
SUMMARY:Virtual Meeting: Public Education on Long Island: Shifting Demographics\, Costs & Outcomes. Why it Matters? Julie Lutz\, Ph.D. COO\, Eastern Suffolk BOCES
DESCRIPTION:Register Here:\nA 32-year veteran of ESBOCES\, Dr. Lutz is responsible for the oversight of all aspects of the agency. She is also the chairperson of the Legislative Committee of the Suffolk County School Superintendents Association\, and is a member of the Long Island Education Coalition where she works to advocate for public education on Long Island. She is also very involved in policy research and development. A staunch advocate for data driven\, effective practices for maximizing student outcomes\, Dr. Lutz completed her administrative training at Stony Brook University. She has a Ph.D. from Hofstra University and earned both her Master and Bachelor of Science Degrees from SUNY Oswego.
URL:https://limba.net/calendar/virtual-meeting-public-education-on-long-island-shifting-demographics-costs-outcomes-why-it-matters-julie-lutz-ph-d-coo-eastern-suffolk-boces/
LOCATION:https://us06web.zoom.us/meeting/register/tZEkce2rrzgsEtL8Rjyfq6-g6xBHGX5Bgka4
CATEGORIES:Virtual Meeting
ATTACH;FMTTYPE=image/jpeg:https://limba.net/wp-content/uploads/2022/02/Julie-Lutz-headshot-2015.jpg
END:VEVENT
END:VCALENDAR