BEGIN:VCALENDAR
VERSION:2.0
PRODID:-//Limba - ECPv6.15.20//NONSGML v1.0//EN
CALSCALE:GREGORIAN
METHOD:PUBLISH
X-ORIGINAL-URL:https://limba.net
X-WR-CALDESC:Events for Limba
REFRESH-INTERVAL;VALUE=DURATION:PT1H
X-Robots-Tag:noindex
X-PUBLISHED-TTL:PT1H
BEGIN:VTIMEZONE
TZID:America/New_York
BEGIN:DAYLIGHT
TZOFFSETFROM:-0500
TZOFFSETTO:-0400
TZNAME:EDT
DTSTART:20210314T070000
END:DAYLIGHT
BEGIN:STANDARD
TZOFFSETFROM:-0400
TZOFFSETTO:-0500
TZNAME:EST
DTSTART:20211107T060000
END:STANDARD
BEGIN:DAYLIGHT
TZOFFSETFROM:-0500
TZOFFSETTO:-0400
TZNAME:EDT
DTSTART:20220313T070000
END:DAYLIGHT
BEGIN:STANDARD
TZOFFSETFROM:-0400
TZOFFSETTO:-0500
TZNAME:EST
DTSTART:20221106T060000
END:STANDARD
BEGIN:DAYLIGHT
TZOFFSETFROM:-0500
TZOFFSETTO:-0400
TZNAME:EDT
DTSTART:20230312T070000
END:DAYLIGHT
BEGIN:STANDARD
TZOFFSETFROM:-0400
TZOFFSETTO:-0500
TZNAME:EST
DTSTART:20231105T060000
END:STANDARD
END:VTIMEZONE
BEGIN:VEVENT
DTSTART;TZID=America/New_York:20220107T090000
DTEND;TZID=America/New_York:20220107T100000
DTSTAMP:20260421T025009
CREATED:20211228T143414Z
LAST-MODIFIED:20211228T143659Z
UID:44133-1641546000-1641549600@limba.net
SUMMARY:Virtual Meeting: Chuck Samul\, Director of Sales and Marketing\, New York & Atlantic Railway
DESCRIPTION:Register for this meeting:\nCharles “Chuck” Samul joined the New York & Atlantic Railway in July 2014 as Manager Marketing Projects and was appointed Director Sales and Marketing in 2018.  He began his railroad career in 1978 with Conrail\, as a produce inspector at the Hunts Point Terminal Market.  He held positions in a variety of departments at Conrail: risk management\, claims\, industrial development\, eventually ending up at the corporate headquarters in Philadelphia working in marketing\, real estate and line sales. \nAt Norfolk Southern he worked in the real estate department and served as liaison for all property transactions in New Jersey\, New York and Detroit.  Taking a break from the rail industry he spent 5 years working in fine wine\, 5 years working in public finance for the Dormitory Authority of the State of New York and 2 years in graduate school\, before being lured back by the sweet perfume of diesel fuel to the New York & Atlantic Railway. \nChuck holds a BS from Cornell University in Agronomy and an MS from Columbia University in Sustainability Management.  When not engaged in new business development for NY&A\, he enjoys kayaking\, hiking\, cooking and reading about (and drinking) wine.  He and his wife Pam have an adult daughter and a very energetic Vizsla.
URL:https://limba.net/calendar/virtual-meeting-chuck-samul-director-of-sales-and-marketing-new-york-atlantic-railway/
LOCATION:NY
CATEGORIES:Virtual Meeting
ATTACH;FMTTYPE=image/jpeg:https://limba.net/wp-content/uploads/2021/12/Charles-Samul_mentistudio.com_-3-headshot-copy-scaled.jpg
END:VEVENT
BEGIN:VEVENT
DTSTART;TZID=America/New_York:20220121T090000
DTEND;TZID=America/New_York:20220121T220000
DTSTAMP:20260421T025009
CREATED:20220107T155837Z
LAST-MODIFIED:20220119T180737Z
UID:44137-1642755600-1642802400@limba.net
SUMMARY:Virtual Meeting: Suffolk County Health Commissioner\, Dr. Gregson H. Pigott
DESCRIPTION:Register Here:\nGregson H. Pigott\, MD\, MPH is the Commissioner of Health for Suffolk County as of February 28\, 2020. He has served as Director of the Office of Minority Health (OMH) in the Suffolk County Department of Health Services in Long Island\, NY since June 2009. Dr. Pigott has also served as the Medical Director for Suffolk County Emergency Medical Services and as a physician in the Huntington methadone treatment program\, providing the most widely known medication assisted treatment to County residents suffering with opioid use disorder. He was born in Brooklyn\, NY\, and grew up in Valley Stream\, Long Island. He holds a BA from Brown University\, a MD from Brown University Medical School\, and a MPH from Harvard School of Public Health. He completed his residency training in Internal Medicine at the Cambridge Hospital in 1997. He is Board Certified in Internal Medicine\, and is a Clinical Assistant Professor in Preventive Medicine at Stony Brook University. He has worked as a primary care internist and attending physician in community health centers in Brownsville\, Brooklyn and Cambridge\, Massachusetts\, caring mainly for the underserved. \nDr. Pigott is fluent in Spanish and is an accomplished Gospel and jazz musician. He continues to be passionate about improving the health of minorities. \n \nThis meeting will be moderated by Lisa Kerr\, VP Global Risk Management and Business Continuity\, Hernry Schein Risk Management
URL:https://limba.net/calendar/virtual-meeting-suffolk-county-health-com/
LOCATION:zoom: https://us06web.zoom.us/meeting/register/tZAod-GqqDguHd1RzpES4SELi6Wqv2Dgp2e6
CATEGORIES:Virtual Meeting
ATTACH;FMTTYPE=image/jpeg:https://limba.net/wp-content/uploads/2022/01/Gregson-H-Pigott-pic-from-2020.09.23-scaled.jpg
END:VEVENT
END:VCALENDAR