BEGIN:VCALENDAR
VERSION:2.0
PRODID:-//Limba - ECPv6.15.20//NONSGML v1.0//EN
CALSCALE:GREGORIAN
METHOD:PUBLISH
X-WR-CALNAME:Limba
X-ORIGINAL-URL:https://limba.net
X-WR-CALDESC:Events for Limba
REFRESH-INTERVAL;VALUE=DURATION:PT1H
X-Robots-Tag:noindex
X-PUBLISHED-TTL:PT1H
BEGIN:VTIMEZONE
TZID:America/New_York
BEGIN:DAYLIGHT
TZOFFSETFROM:-0500
TZOFFSETTO:-0400
TZNAME:EDT
DTSTART:20200308T070000
END:DAYLIGHT
BEGIN:STANDARD
TZOFFSETFROM:-0400
TZOFFSETTO:-0500
TZNAME:EST
DTSTART:20201101T060000
END:STANDARD
BEGIN:DAYLIGHT
TZOFFSETFROM:-0500
TZOFFSETTO:-0400
TZNAME:EDT
DTSTART:20210314T070000
END:DAYLIGHT
BEGIN:STANDARD
TZOFFSETFROM:-0400
TZOFFSETTO:-0500
TZNAME:EST
DTSTART:20211107T060000
END:STANDARD
BEGIN:DAYLIGHT
TZOFFSETFROM:-0500
TZOFFSETTO:-0400
TZNAME:EDT
DTSTART:20220313T070000
END:DAYLIGHT
BEGIN:STANDARD
TZOFFSETFROM:-0400
TZOFFSETTO:-0500
TZNAME:EST
DTSTART:20221106T060000
END:STANDARD
END:VTIMEZONE
BEGIN:VEVENT
DTSTART;TZID=America/New_York:20211203T083000
DTEND;TZID=America/New_York:20211203T100000
DTSTAMP:20260421T045410
CREATED:20211116T145332Z
LAST-MODIFIED:20211116T145432Z
UID:44112-1638520200-1638525600@limba.net
SUMMARY:In-person Meeting: NYS Assemblyman Steve Englebright
DESCRIPTION:Register Here:\nIn the early 1980s\, Steve Englebright helped lead the effort to preserve the Long Island Pine Barrens and is credited with articulating the connection between the preservation of the Pine Barrens ecosystem and protection of the sole source aquifer which it overlays as a public health imperative to safeguard the drinking water of 1.5 million people. His interest in the interface between science and society in the policy area of public health led him to public elected office where he has served in the Suffolk County Legislature and the New York State Assembly. \nAs the only natural scientist in the State Legislature\, Steve Englebright’s ability to translate technical concepts and findings into meaningful public policy has enabled him to craft policy that has relevance to our lives and health. As the Legislature’s leading proponent for the use of clean\, renewable energy\, Englebright authored New York’s first solar and wind net-metering laws in the 1990s and successfully pushed in 2008 for the expansion of solar net-metering to include all utility customer classes. These laws now provide the necessary foundation on which to ramp up New York’s renewable energy production. \nIn February 2015\, Assemblyman Englebright was appointed Chair of the Assembly Committee on Environmental Conservation. His environmental priorities include advancing policy and budgetary initiatives to improve the quality of our air and waters\, open space preservation\, recycling and sustainability\, and ramping up our efforts on the state level to reduce greenhouse gas emissions and combat the impacts of climate change including sea level rise\, ocean acidification\, and future extreme weather events. \nSteve Englebright is on the faculty of the Sustainability Studies Program at Stony Brook University. He received his BS from the University of Tennessee in 1969 and an MS in Geology (Paleontology/Sedimentology) from Stony Brook. \nStanding Committee Assignments 2017: Environmental Conservation (Chair); Education; Energy; Higher Education; and Rules. \nSponsored by:
URL:https://limba.net/calendar/in-person-meeting-nys-assemblyman-steve-englebright/
LOCATION:Top Golf\, 5231 Express Drive North\, Holtsville\, NY\, 11742
ATTACH;FMTTYPE=image/jpeg:https://limba.net/wp-content/uploads/2021/11/Englebright.jpg
END:VEVENT
END:VCALENDAR