BEGIN:VCALENDAR
VERSION:2.0
PRODID:-//Limba - ECPv6.15.20//NONSGML v1.0//EN
CALSCALE:GREGORIAN
METHOD:PUBLISH
X-ORIGINAL-URL:https://limba.net
X-WR-CALDESC:Events for Limba
REFRESH-INTERVAL;VALUE=DURATION:PT1H
X-Robots-Tag:noindex
X-PUBLISHED-TTL:PT1H
BEGIN:VTIMEZONE
TZID:America/New_York
BEGIN:DAYLIGHT
TZOFFSETFROM:-0500
TZOFFSETTO:-0400
TZNAME:EDT
DTSTART:20200308T070000
END:DAYLIGHT
BEGIN:STANDARD
TZOFFSETFROM:-0400
TZOFFSETTO:-0500
TZNAME:EST
DTSTART:20201101T060000
END:STANDARD
BEGIN:DAYLIGHT
TZOFFSETFROM:-0500
TZOFFSETTO:-0400
TZNAME:EDT
DTSTART:20210314T070000
END:DAYLIGHT
BEGIN:STANDARD
TZOFFSETFROM:-0400
TZOFFSETTO:-0500
TZNAME:EST
DTSTART:20211107T060000
END:STANDARD
BEGIN:DAYLIGHT
TZOFFSETFROM:-0500
TZOFFSETTO:-0400
TZNAME:EDT
DTSTART:20220313T070000
END:DAYLIGHT
BEGIN:STANDARD
TZOFFSETFROM:-0400
TZOFFSETTO:-0500
TZNAME:EST
DTSTART:20221106T060000
END:STANDARD
END:VTIMEZONE
BEGIN:VEVENT
DTSTART;TZID=America/New_York:20210813T090000
DTEND;TZID=America/New_York:20210813T100000
DTSTAMP:20260421T114157
CREATED:20210727T154330Z
LAST-MODIFIED:20210727T154330Z
UID:44012-1628845200-1628848800@limba.net
SUMMARY:Virtual Event: Legislative Matters That Matter - Suffolk County Legislator Robert Trotta
DESCRIPTION:Register for Event Here\nRob Trotta is a life-long resident of the 13th Legislative District. He grew up in Commack with his two brothers and graduated from Commack High School in 1979. He lives in Fort Salonga with his wife\, two children and dog. \nHe graduated from C.W. Post with a bachelor’s in Criminal Justice and received a master’s in Labor Management Relations from Stony Brook University. For 25 years he worked as a police officer for the Suffolk County Police Department\, retiring in 2013 with the rank of Detective. For over 10 years he was assigned to the FBI Violent Crimes Task Force\, where he worked on complex cases ranging from money laundering to confiscating large quantities of cocaine from our streets. His hard work and passion for the job were recognized on several occasions by his superiors\, including “Cop of the Year” in 1993 and “Detective of the Year” in 2001. \nOver the years\, Rob has been active with several local organizations\, including Kings Park Soccer Club\, Kings Park Neighbors Association\, the Nissequogue River State Park Foundation and the Kings Park Civic Association. In 2005\, Rob helped lead an effort to prevent the development of up to 2\,500 units of housing on the former Kings Park State Hospital property. He advocated for and eventually won state support for the transfer of the 365 acre property to New York State Parks in 2006. As a board member with the Nissequogue River State Park Foundation\, he helped raise hundreds of thousands of dollars for beautification and restoration projects\, and persuade the state to begin the first phase of the park’s cleanup in 2012-2013.To this day\, he continues to volunteer with the Nissequogue River State Park Foundation. \nRob recognizes that our quality of life\, which includes safe neighborhoods\, great schools\, and terrific parks\, is the primary reason why many of us have chosen to live here. Our residents expect our elected representatives to protect and improve these assets for future generations. \nIn early 2013\, Rob decided to run for the office of Suffolk County Legislator. His campaign was largely based on becoming a full time legislator with the goal of making county government more efficient. \nLegislator Trotta was proudly sworn in as the Suffolk County Legislator for the 13th Legislative District on January 2\, 2014. He has been re-elected every two years and was sworn in on January 2\, 2020 for his fourth two-year term. Legislator Trotta has vowed to put you\, the taxpayer\, first and to strive to ensure that our parents and children can continue to live on Long Island\, to eliminate wasteful spending and to eradicate the corruption in Suffolk County. \nRegister for Event Here
URL:https://limba.net/calendar/virtual-event-legislative-matters-that-matter-suffolk-county-legislator-robert-trotta/
LOCATION:NY
CATEGORIES:Virtual Meeting
ATTACH;FMTTYPE=image/jpeg:https://limba.net/wp-content/uploads/2021/07/Rob_trotta.jpg
END:VEVENT
BEGIN:VEVENT
DTSTART;TZID=America/New_York:20210827T090000
DTEND;TZID=America/New_York:20210827T100000
DTSTAMP:20260421T114157
CREATED:20210810T172955Z
LAST-MODIFIED:20210810T173527Z
UID:44022-1630054800-1630058400@limba.net
SUMMARY:Virtual Event: Affordable Housing\, Opportunities & Obstacles - Peter J. Elkowitz\, Jr.\, President & CEO\, Long Island Housing Partnership
DESCRIPTION:Register for this Event:\nMr. Elkowitz has been with the Long Island Housing Partnership since 1989. Mr. Elkowitz is responsible for the overall operation of Long Island Housing Partnership and its Affiliates. He holds a Master of Science Degree in Policy Analysis and Public Management. In June 2002\, Mr. Elkowitz completed the Senior Executives Program in State and Local Government at the John F. Kennedy School of Government at Harvard University. He also received the Harry Weiner Distinguished Alumni Award in 1995 and the Governor’s award for Excellence in Housing in 1994. He is a member of the 2007 Class of The Energeia Partnership – The Academy for Regional Stewardship at Molloy College. Currently\, he serves on the board of New York Housing Conference\, Inc. Mr. Elkowitz served as Chair to the Federal Home Loan Bank of New York Affordable Housing Advisory Council and was a former member of the Long Island Regional Planning Council. Mr. Elkowitz now serves on the Board for The National Community Land Trust Network dba Grounded Solutions Network and on the Board of Empire Justice Center. Mr. Elkowitz was honored as top CFO and 2016 was honored as top CEO by the Long Island Business News.
URL:https://limba.net/calendar/virtual-event-affordable-housing-opportunities-obstacles-peter-j-elkowitz-jr-president-ceo-long-island-housing-partnership/
LOCATION:NY
CATEGORIES:Virtual Meeting
ATTACH;FMTTYPE=image/jpeg:https://limba.net/wp-content/uploads/2021/08/paul_elkowitz.jpg
END:VEVENT
END:VCALENDAR