BEGIN:VCALENDAR
VERSION:2.0
PRODID:-//Limba - ECPv6.15.20//NONSGML v1.0//EN
CALSCALE:GREGORIAN
METHOD:PUBLISH
X-WR-CALNAME:Limba
X-ORIGINAL-URL:https://limba.net
X-WR-CALDESC:Events for Limba
REFRESH-INTERVAL;VALUE=DURATION:PT1H
X-Robots-Tag:noindex
X-PUBLISHED-TTL:PT1H
BEGIN:VTIMEZONE
TZID:America/New_York
BEGIN:DAYLIGHT
TZOFFSETFROM:-0500
TZOFFSETTO:-0400
TZNAME:EDT
DTSTART:20140309T070000
END:DAYLIGHT
BEGIN:STANDARD
TZOFFSETFROM:-0400
TZOFFSETTO:-0500
TZNAME:EST
DTSTART:20141102T060000
END:STANDARD
BEGIN:DAYLIGHT
TZOFFSETFROM:-0500
TZOFFSETTO:-0400
TZNAME:EDT
DTSTART:20150308T070000
END:DAYLIGHT
BEGIN:STANDARD
TZOFFSETFROM:-0400
TZOFFSETTO:-0500
TZNAME:EST
DTSTART:20151101T060000
END:STANDARD
BEGIN:DAYLIGHT
TZOFFSETFROM:-0500
TZOFFSETTO:-0400
TZNAME:EDT
DTSTART:20160313T070000
END:DAYLIGHT
BEGIN:STANDARD
TZOFFSETFROM:-0400
TZOFFSETTO:-0500
TZNAME:EST
DTSTART:20161106T060000
END:STANDARD
BEGIN:DAYLIGHT
TZOFFSETFROM:-0500
TZOFFSETTO:-0400
TZNAME:EDT
DTSTART:20170312T070000
END:DAYLIGHT
BEGIN:STANDARD
TZOFFSETFROM:-0400
TZOFFSETTO:-0500
TZNAME:EST
DTSTART:20171105T060000
END:STANDARD
END:VTIMEZONE
BEGIN:VEVENT
DTSTART;TZID=America/New_York:20160930T000000
DTEND;TZID=America/New_York:20160930T000000
DTSTAMP:20260420T231841
CREATED:20160930T040000Z
LAST-MODIFIED:20190314T130556Z
UID:4655-1475193600-1475193600@limba.net
SUMMARY:John Kennedy- Suffolk CountyComptroller
DESCRIPTION: Mr Kennedy will discuss the latest moves that the county needs to make. More details to come.  \nMeeting sponsor is Gold Coast Bank \n  \n  \n  \nMeeting will be held at the Clarion Hotel 3845 Veterans Memorial Highway Ronkonkoma NY 11779   \nMeeting room opens for  registration at 8AM. Program at 8:30 to 9:30  \nRegister   https://limba.net/breakfastform.php                             \n631 757-1698  $15 members\, $25 non-members 
URL:https://limba.net/calendar/john-kennedy-suffolk-countycomptroller/
LOCATION:NY
END:VEVENT
BEGIN:VEVENT
DTSTART;TZID=America/New_York:20160916T000000
DTEND;TZID=America/New_York:20160916T000000
DTSTAMP:20260420T231841
CREATED:20160916T040000Z
LAST-MODIFIED:20190314T130708Z
UID:4654-1473984000-1473984000@limba.net
SUMMARY:Congresswoman Kathleen Rice Confirmed
DESCRIPTION: Meaningful and constructive Interaction with public officials \nCongressman Keatleen Rice will be our LIMBA when we are at Adelphi University.  This special meeting will have anumber of students in the audience.We urge our members to attend.           Meeting will be held at the Adelphi University in the Alumni House                        146 Cambridge Avenue Garden City \n \nHosts Bill Miller & Ernie Fazio  \n$15 members / $25 non­members \nBreakfast: 8:00 A.M. \nProgram: 8:30 A.M. to 9:30 A.M. \n(631) 757­1698?                      Email:?  ? info@limba.net \nRegister:?  ? www.limba.net?        Share: ? www.limbasocialnetwork.com \n  \n  \n  \n  \n  \n 
URL:https://limba.net/calendar/congresswoman-kathleen-rice-confirmed/
LOCATION:NY
END:VEVENT
BEGIN:VEVENT
DTSTART;TZID=America/New_York:20160826T000000
DTEND;TZID=America/New_York:20160826T000000
DTSTAMP:20260420T231841
CREATED:20160826T040000Z
LAST-MODIFIED:20190314T130734Z
UID:4656-1472169600-1472169600@limba.net
SUMMARY:LIMBA invites Michael Setzer-Pres. Transdev North America
DESCRIPTION: Transdev North America operates the bus service in Nassau County. Michael Setzer is the CEO of Transdev and will be speaking about transportation on Long Island in a more general sense. \nThe company is a division of a multi faceted world scope business that has many capabilities. Please join us in hearing Mr. Setzers ideas. \nMeeting will be held at the Clarion Hotel 3845 Veterans Memorial Highway Ronkonkoma NY 11779   \nMeeting room opens for  registration at 8AM. Program at 8:30 to 9:30  \nRegister   https://limba.net/breakfastform.php                             \n631 757-1698  $15 members\, $25 non-members  \n 
URL:https://limba.net/calendar/limba-invites-michael-setzer-pres-transdev-north-america/
LOCATION:NY
END:VEVENT
BEGIN:VEVENT
DTSTART;TZID=America/New_York:20160812T000000
DTEND;TZID=America/New_York:20160812T000000
DTSTAMP:20260420T231841
CREATED:20160812T040000Z
LAST-MODIFIED:20190314T130745Z
UID:4653-1470960000-1470960000@limba.net
SUMMARY:Covanta Energy Plant tour
DESCRIPTION: The Covanta Energy Plant Tour will show the process of converting trash into electrical energy. The facility negates the need to transfer by truck the trash that would otherwise be hauled of Long Island \nThe meeting will take place at plant located in Ronkonkoma short distance from the Clarion Hotel 
URL:https://limba.net/calendar/covanta-energy-plant-tour/
LOCATION:NY
END:VEVENT
BEGIN:VEVENT
DTSTART;TZID=America/New_York:20160729T000000
DTEND;TZID=America/New_York:20160729T000000
DTSTAMP:20260420T231841
CREATED:20160729T040000Z
LAST-MODIFIED:20190314T130757Z
UID:4651-1469750400-1469750400@limba.net
SUMMARY:Dick Amper Exec Dir. of Pine Barrens -Shoreham Solar Plan
DESCRIPTION: Mr. Amper recently wrote an op-ed in Newsday on the wisdom of building a 350 acre solar array at Shoreham. He will give us insights that may not be obvious  Meeting will be held  at \nThe Clarion Hotel\, 3845 Veterans Memorial Highway\, Ronkonkoma NY 11779 \n  \nMeeting Host:  Bill Miller & Ernie Fazio$ \n  \n$15 members / $25 non­members \nBreakfast: 8:00 A.M. \nProgram: 8:30 A.M. to 9:30 A.M. \n(631) 757­1698?                      Email:?  ? info@limba.net \nRegister:?  ? www.limba.net?        Share: ? www.limbasocialnetwork.com
URL:https://limba.net/calendar/dick-amper-exec-dir-of-pine-barrens-shoreham-solar-plan/
LOCATION:NY
END:VEVENT
BEGIN:VEVENT
DTSTART;TZID=America/New_York:20160715T000000
DTEND;TZID=America/New_York:20160715T000000
DTSTAMP:20260420T231841
CREATED:20160715T040000Z
LAST-MODIFIED:20190314T130807Z
UID:4650-1468540800-1468540800@limba.net
SUMMARY:Kevin Dahill\, Pres Nassau Suffolk Hospital Council
DESCRIPTION:Mr Dahill is one of the credible voices when it comes to medical costs. "Where are we now that we have several years of AFC behind us and where are the trends in cost pointing" \nMeeting will be held at the Clarion Hotel 3845 Veterans Memorial Highway Ronkonkoma NY 11779   \nMeeting room opens for  registration at 8AM. Program at 8:30 to 9:30  \nRegister   https://limba.net/breakfastform.php                             \n631 757-1698  $15 members\, $25 non-members 
URL:https://limba.net/calendar/kevin-dahill-pres-nassau-suffolk-hospital-council/
LOCATION:NY
END:VEVENT
BEGIN:VEVENT
DTSTART;TZID=America/New_York:20160624T000000
DTEND;TZID=America/New_York:20160624T000000
DTSTAMP:20260420T231841
CREATED:20160624T040000Z
LAST-MODIFIED:20190314T130818Z
UID:4649-1466726400-1466726400@limba.net
SUMMARY:Anna Throne-Holst Dem Primary Candidate NY 1st Congressional
DESCRIPTION: Anna Throne-Holst is the current Town Superviser – She has presented herself os the Democratic candidate for Congress in the 1st Congressional District     \n Meeting will be held at the Clarion Hotel 3845 Veterans Memorial Highway Ronkonkoma NY 11779   \nMeeting room opens for  registration at 8AM. Program at 8:30 to 9:30  \nRegister   https://limba.net/breakfastform.php                             \n631 757-1698  $15 members\, $25 non-members 
URL:https://limba.net/calendar/anna-throne-holst-dem-primary-candidate-ny-1st-congressional/
LOCATION:NY
END:VEVENT
BEGIN:VEVENT
DTSTART;TZID=America/New_York:20160610T000000
DTEND;TZID=America/New_York:20160610T000000
DTSTAMP:20260420T231841
CREATED:20160610T040000Z
LAST-MODIFIED:20190314T130831Z
UID:4648-1465516800-1465516800@limba.net
SUMMARY:Transportation panel with Mitch Pally and Marc Herbst
DESCRIPTION: Mitch Pally\, and Marc Herbst will discuss transportation needs and solutions \n  \nMeeting will be held at the Clarion Hotel 3845 Veterans Memorial Highway Ronkonkoma NY 11779   \nMeeting room opens for  registration at 8AM. Program at 8:30 to 9:30 \n Register   https://limba.net/breakfastform.php                            631 757-1698  $15 members\, $25 non-members 
URL:https://limba.net/calendar/transportation-panel-with-mitch-pally-and-marc-herbst/
LOCATION:NY
END:VEVENT
BEGIN:VEVENT
DTSTART;TZID=America/New_York:20160527T000000
DTEND;TZID=America/New_York:20160527T000000
DTSTAMP:20260420T231841
CREATED:20160527T040000Z
LAST-MODIFIED:20190314T130841Z
UID:4652-1464307200-1464307200@limba.net
SUMMARY:Suffolk County presiding Officer Dwayne Gregory confirmed
DESCRIPTION:
URL:https://limba.net/calendar/suffolk-county-presiding-officer-dwayne-gregory-confirmed/
LOCATION:NY
END:VEVENT
BEGIN:VEVENT
DTSTART;TZID=America/New_York:20160513T000000
DTEND;TZID=America/New_York:20160513T000000
DTSTAMP:20260420T231841
CREATED:20160513T040000Z
LAST-MODIFIED:20190314T130853Z
UID:4644-1463097600-1463097600@limba.net
SUMMARY:State Senator Ken Lavalle cancelled
DESCRIPTION:   \nCancelled  \nMr. LaValle will give us his remedy for pension reform. In particular the practice of guaranteeing pensions to felons \n   \nMeeting will be held at the Clarion Hotel 3845 Veterans Memorial Highway Ronkonkoma NY 11779   \nMeeting room opens for  registration at 8AM. Program at 8:30 to 9:30 \n Register   https://limba.net/breakfastform.php                            631 757-1698  $15 members\, $25 non-members  \n  \n  \n  \n 
URL:https://limba.net/calendar/state-senator-ken-lavalle-cancelled/
LOCATION:NY
END:VEVENT
BEGIN:VEVENT
DTSTART;TZID=America/New_York:20160422T000000
DTEND;TZID=America/New_York:20160422T000000
DTSTAMP:20260420T231841
CREATED:20160422T040000Z
LAST-MODIFIED:20190314T130906Z
UID:4647-1461283200-1461283200@limba.net
SUMMARY:Steve Bellone\, County Exec. Ronkonkoma Hub and other issues
DESCRIPTION:Meeting will be held at the Clarion Hotel 3845 Veterans Memorial Highway Ronkonkoma NY 11779   \nMeeting room opens for  registration at 8AM. Program at 8:30 to 9:30  \nRegister   https://limba.net/breakfastform.php                            \n \n631 757-1698  $15 members\, $25 non-members  \n 
URL:https://limba.net/calendar/steve-bellone-county-exec-ronkonkoma-hub-and-other-issues/
LOCATION:NY
END:VEVENT
BEGIN:VEVENT
DTSTART;TZID=America/New_York:20160408T000000
DTEND;TZID=America/New_York:20160408T000000
DTSTAMP:20260420T231841
CREATED:20160408T040000Z
LAST-MODIFIED:20190314T130922Z
UID:4645-1460073600-1460073600@limba.net
SUMMARY:James Gaughran Suffolk County Water
DESCRIPTION:There has been a lot of discussion about water quality here and across the country. How well are we being protected from contamination?   \nThe chairman of SCWA will be our speaker.  \n\n\n\nMeeting will be held at the Clarion Hotel 3845 Veterans Memorial Highway Ronkonkoma NY 11779  \nMeeting room opens for  registration at 8AM. Program at 8:30 to 9:30\nRegister   https://limba.net/breakfastform.php                            \n631 757-1698  \n$15 members\, $25 non-members 
URL:https://limba.net/calendar/james-gaughran-suffolk-county-water/
LOCATION:NY
END:VEVENT
BEGIN:VEVENT
DTSTART;TZID=America/New_York:20160325T000000
DTEND;TZID=America/New_York:20160325T000000
DTSTAMP:20260420T231841
CREATED:20160325T040000Z
LAST-MODIFIED:20190314T130933Z
UID:4643-1458864000-1458864000@limba.net
SUMMARY:Wayne Horsely -State of the state parks -recheduled
DESCRIPTION: There have been numerous improvement projects started. Mr Horsely will give us an update   \n Sponsored By Greenman Pedersen Inc.  & Boys and Girls Clubs of Suffolk  \n  \nMeeting will be held at the Clarion Hotel 3845 Veterans Memorial Highway Ronkonkoma NY 11779 \n                $15 members / $25 non­members \n                Breakfast: 8:00 A.M. \n                Program: 8:30 A.M. to 9:30 A.M. \n  Call:   (631)757­1698                     Email:  info@limba.net  \n           Register:  www.limba.net         Share:  www.limbasocialnetwork.com \n 
URL:https://limba.net/calendar/wayne-horsely-state-of-the-state-parks-recheduled/
LOCATION:NY
END:VEVENT
BEGIN:VEVENT
DTSTART;TZID=America/New_York:20160311T000000
DTEND;TZID=America/New_York:20160311T000000
DTSTAMP:20260420T231841
CREATED:20160311T050000Z
LAST-MODIFIED:20190314T130949Z
UID:4646-1457654400-1457654400@limba.net
SUMMARY:Steve Levy & Mike Fitzpatrick - Public Policy abuses
DESCRIPTION: Steve Levy has created "Common Sense Strategies" whis dedicated to exposing the wasteful use of public money. Mike Fitzpatrick has joined Levy in creating legislation to claw back some of these abuses.. Please join us \n  \n  \n  \n  \nMeeting will be held at the Clarion Hotel 3845 Veterans Memorial Highway \n  \nMeeting will be held at the Clarion Hotel 3845 Veterans Memorial Highway Ronkonkoma NY 11779   \nMeeting room opens for  registration at 8AM. Program at 8:30 to 9:30 \n Register   https://limba.net/breakfastform.php                            631 757-1698  $15 members\, $25 non-members 
URL:https://limba.net/calendar/steve-levy-mike-fitzpatrick-public-policy-abuses/
LOCATION:NY
END:VEVENT
BEGIN:VEVENT
DTSTART;TZID=America/New_York:20160226T000000
DTEND;TZID=America/New_York:20160226T000000
DTSTAMP:20260420T231841
CREATED:20160226T050000Z
LAST-MODIFIED:20190314T130958Z
UID:4640-1456444800-1456444800@limba.net
SUMMARY:Ken Daly Pres National Grid  confirmed
DESCRIPTION: There is an increasing importance of the natural gas component of our energy needs. We will be discuss the building out of distribution facilities and other matters.                                                                   sponsored by  MC Energy Alliance & AECOM -"built to deliver a better world" \n  \nMeeting will be held at the Clarion Hotel 3845 Veterans Memorial Highway Ronkonkoma NY 11779   \nMeeting room opens for  registration at 8AM. Program at 8:30 to 9:30 \n Register   https://limba.net/breakfastform.php                            631 757-1698  $15 members\, $25 non-members
URL:https://limba.net/calendar/ken-daly-pres-national-grid-confirmed/
LOCATION:NY
END:VEVENT
BEGIN:VEVENT
DTSTART;TZID=America/New_York:20160122T000000
DTEND;TZID=America/New_York:20160122T000000
DTSTAMP:20260420T231841
CREATED:20160122T050000Z
LAST-MODIFIED:20160122T050000Z
UID:4639-1453420800-1453420800@limba.net
SUMMARY:Dave Daly pres PSEGLI Confirmed
DESCRIPTION: The need for building more generation\, or not. The state of emergency preparedness and other important issues will be addressed. \nSponsored by Green Audit USA  & AECOM 
URL:https://limba.net/calendar/dave-daly-pres-psegli-confirmed/
LOCATION:NY
END:VEVENT
BEGIN:VEVENT
DTSTART;TZID=America/New_York:20160108T000000
DTEND;TZID=America/New_York:20160108T000000
DTSTAMP:20260420T231841
CREATED:20160108T050000Z
LAST-MODIFIED:20160108T050000Z
UID:4637-1452211200-1452211200@limba.net
SUMMARY:LI MacArthur Airport update Robert Schaefer\, Commissioner
DESCRIPTION:The airport is in the midst of making changes in service that should enhance  operations Commissioner Robert  Schaefer will give us much information as he can on plans for the airport.     \nThis meeting is sponsored by Green Audit USA  – Thank you  \n  \n  \nMeeting will be held at the Clarion Hotel 3845 Veterans Memorial Highway Ronkonkoma NY 11779   \nMeeting room opens for  registration at 8AM. Program at 8:30 to 9:30 \n  Register   https://limba.net/breakfastform.php                            631 757-1698  $15 members\, $25 non-members \n  \n  \n  \n  \n  \n  \n  \n  \n  \n  \n  \n 
URL:https://limba.net/calendar/li-macarthur-airport-update-robert-schaefer-commissioner/
LOCATION:NY
END:VEVENT
BEGIN:VEVENT
DTSTART;TZID=America/New_York:20151218T000000
DTEND;TZID=America/New_York:20151218T000000
DTSTAMP:20260420T231841
CREATED:20151218T050000Z
LAST-MODIFIED:20151218T050000Z
UID:4634-1450396800-1450396800@limba.net
SUMMARY:LIMBA holiday celebration
DESCRIPTION:        LIMBA Holiday Party \nWith the ever fabulous Steve DePass. ”America’s Singing Poet” Enjoy an extremely polished professional act that is reminiscent of his work in Las Vegas and cruise ships around the world and for several presidents \nSteve was a child star that began his stage performances at age 5. As he developed he had the good fortune of meeting the man that would become president of the United States. DePass was asked to employ his song writing skills for the Kennedy for the presidency campaign   Upon his election President Kennedy appointed this young talented man as his “Cultural Ambassador.” In that role he performed for the heads of state in Europe He later performed on several occasions for President Johnson\, and President Gerald Ford.  Then he worked for Governor Nelson Rockefeller as a liaison man with the civil rights leaders and Nelson dubbed him “America’s Singing Poet”\,  \nSteve then embarked on a Las Vegas career as a headliner that later included performing on cruise ships around the world. He is author to over 2\,500 songs and numerous commercial jingles. We are honored that Mr DePass agreed to perform for LIMBA for the third time at my request- Ernie Fazio
URL:https://limba.net/calendar/limba-holiday-celebration/
LOCATION:NY
END:VEVENT
BEGIN:VEVENT
DTSTART;TZID=America/New_York:20151120T000000
DTEND;TZID=America/New_York:20151120T000000
DTSTAMP:20260420T231841
CREATED:20151120T050000Z
LAST-MODIFIED:20151120T050000Z
UID:4638-1447977600-1447977600@limba.net
SUMMARY:Brad Cronin - "Myths and Misconceptions in Property Tax Law"
DESCRIPTION: Brad Cronin is a principal in the prominent law ffirm of Cronin & Cronin \n "Myths and Misconceptions in Property Tax Law" \n  \n  \nMeeting will be held at the Clarion Hotel 3845 Veterans Memorial Highway Ronkonkoma NY 11779 \n                $15 members / $25 non­members  \n                Breakfast: 8:00 A.M.                Program: 8:30 A.M. to 9:30 A.M.  Call:   (631)757­1698                        \nEmail:  info@limba.net  \n            Register:     www.limba.net         Share:   www.limbasocialnetwork.com
URL:https://limba.net/calendar/brad-cronin-myths-and-misconceptions-in-property-tax-law/
LOCATION:NY
END:VEVENT
BEGIN:VEVENT
DTSTART;TZID=America/New_York:20151106T000000
DTEND;TZID=America/New_York:20151106T000000
DTSTAMP:20260420T231841
CREATED:20151106T050000Z
LAST-MODIFIED:20151106T050000Z
UID:4636-1446768000-1446768000@limba.net
SUMMARY:James Bonner- NY & Atlantic Rail Road
DESCRIPTION: The New York and Atlantic Rail Road is the freight carrier that is the operator that delivers freight on the LIRR tracks. They have built the volume over the years. Jim Bonner will give us an overveiw of the progress and obstacles to increasing rail freight and reducing truck traffic. \nThis meeting is sponsored by Greenman pedersen Inc. \n  \nMeeting will be held at the Clarion Hotel 3845 Veterans Memorial Highway Ronkonkoma NY 11779 \n                $15 members / $25 non­members  \n                Breakfast: 8:00 A.M.  \n                Program: 8:30 A.M. to 9:30 A.M.  \n? Call:?  (631)757­1698?                      Email:?  ? info@limba.net   \n           Register:?  ? www.limba.net?        Share: ? www.limbasocialnetwork.com																													 \n  \n  \n  \n  \n  \n  \n 
URL:https://limba.net/calendar/james-bonner-ny-atlantic-rail-road/
LOCATION:NY
END:VEVENT
BEGIN:VEVENT
DTSTART;TZID=America/New_York:20151023T000000
DTEND;TZID=America/New_York:20151023T000000
DTSTAMP:20260420T231841
CREATED:20151023T040000Z
LAST-MODIFIED:20151023T040000Z
UID:4632-1445558400-1445558400@limba.net
SUMMARY:Peter Curtis - Energy Security & The Power Grid
DESCRIPTION: Peter Curtis is president of Energy Concepts. He is considered an authority on energy . His discussion will center on the safety of the grid. "Energy Security and the Grid"                 This meeting is sponsored by Lockheed Martin Corp                                                                                                                                                                                             \nMeeting will be held at the Clarion Hotel 3845 Veterans Memorial Highway Ronkonkoma NY 11779 \n                $15 members / $25 non­members  \n                Breakfast: 8:00 A.M.  \n                Program: 8:30 A.M. to 9:30 A.M.  \n? Call:?  (631)757­1698?                      Email:?  ? info@limba.net   \n           Register:?  ? www.limba.net?        Share: ? www.limbasocialnetwork.com \n  \n  \n  \n 
URL:https://limba.net/calendar/peter-curtis-energy-security-the-power-grid/
LOCATION:NY
END:VEVENT
BEGIN:VEVENT
DTSTART;TZID=America/New_York:20151016T000000
DTEND;TZID=America/New_York:20151016T000000
DTSTAMP:20260420T231841
CREATED:20151016T040000Z
LAST-MODIFIED:20151016T040000Z
UID:4630-1444953600-1444953600@limba.net
SUMMARY:NYS Senator Tom Croci
DESCRIPTION: Tom Croci will bring the LIMBA audience up to date on Albany matters We will have more on the topic later \nMichelle Zere will Host and lead the discussion \n  \n  \nMeeting spoansors are Summit Security & All Star Installations  \nMeeting will be held at the Clarion Hotel 3845 Veterans Memorial Highway Ronkonkoma NY 11779 \n                $15 members / $25 non­members  \n                Breakfast: 8:00 A.M.  \n                Program: 8:30 A.M. to 9:30 A.M.  \n? Call:?  (631)757­1698?                      Email:?  ? info@limba.net   \n           Register:?  ? www.limba.net?        Share: ? www.limbasocialnetwork.com  \n  \n  \n  \n 
URL:https://limba.net/calendar/nys-senator-tom-croci/
LOCATION:NY
END:VEVENT
BEGIN:VEVENT
DTSTART;TZID=America/New_York:20151002T000000
DTEND;TZID=America/New_York:20151002T000000
DTSTAMP:20260420T231841
CREATED:20151002T040000Z
LAST-MODIFIED:20151002T040000Z
UID:4635-1443744000-1443744000@limba.net
SUMMARY:Islip Supervisor Angie Carpenter
DESCRIPTION:  \nSuperviser Carpenter will discuss the needs and problems that are facing the townor  \nThe sponsor for this meeting is Gold Coast Bank \nMeeting will be held at the Clarion Hotel 3845 Veterans Memorial Highway Ronkonkoma NY 11779 \n                $15 members / $25 non­members  \n                Breakfast: 8:00 A.M.  \n                Program: 8:30 A.M. to 9:30 A.M.  \n? Call:?  (631)757­1698?                      Email:?  ? info@limba.net   \n  \n           Register:?  ? www.limba.net?        Share: ? www.limbasocialnetwork.com
URL:https://limba.net/calendar/islip-supervisor-angie-carpenter/
LOCATION:NY
END:VEVENT
BEGIN:VEVENT
DTSTART;TZID=America/New_York:20150918T000000
DTEND;TZID=America/New_York:20150918T000000
DTSTAMP:20260420T231841
CREATED:20150918T040000Z
LAST-MODIFIED:20150918T040000Z
UID:4633-1442534400-1442534400@limba.net
SUMMARY:Diana CherryHolmes- Suffolk County Film Commissiomor
DESCRIPTION:The film industry on Long Island has hosted numerous films. The commissioner will discuss the economic importance of this industry and give a little history of film making in our back yard \n Sponsored by Dale Carnegie Training   \n  \nMeeting will be held at the Clarion Hotel 3845 Veterans Memorial Highway Ronkonkoma NY 11779                 $15 members / $25 non­members                  Breakfast: 8:00 A.M.                  Program: 8:30 A.M. to 9:30 A.M.   Call:  (631)757­1698                      Email:   info@limba.net              Register:   www.limba.net        Share:  www.limbasocialnetwork.com
URL:https://limba.net/calendar/diana-cherryholmes-suffolk-county-film-commissiomor/
LOCATION:NY
END:VEVENT
BEGIN:VEVENT
DTSTART;TZID=America/New_York:20150821T000000
DTEND;TZID=America/New_York:20150821T000000
DTSTAMP:20260420T231841
CREATED:20150821T040000Z
LAST-MODIFIED:20150821T040000Z
UID:4629-1440115200-1440115200@limba.net
SUMMARY:No Meeting
DESCRIPTION:The Supervisor will give us an assessment of current efforts in the town.
URL:https://limba.net/calendar/no-meeting-15/
LOCATION:NY
END:VEVENT
BEGIN:VEVENT
DTSTART;TZID=America/New_York:20150807T000000
DTEND;TZID=America/New_York:20150807T000000
DTSTAMP:20260420T231841
CREATED:20150807T040000Z
LAST-MODIFIED:20150807T040000Z
UID:4624-1438905600-1438905600@limba.net
SUMMARY:Mark Lesko- Accelerate Long Island
DESCRIPTION:Mark Lesko is the Executive Director
URL:https://limba.net/calendar/mark-lesko-accelerate-long-island/
LOCATION:NY
END:VEVENT
BEGIN:VEVENT
DTSTART;TZID=America/New_York:20150724T000000
DTEND;TZID=America/New_York:20150724T000000
DTSTAMP:20260420T231841
CREATED:20150724T040000Z
LAST-MODIFIED:20150724T040000Z
UID:4628-1437696000-1437696000@limba.net
SUMMARY:Summer Round Table
DESCRIPTION:
URL:https://limba.net/calendar/summer-round-table/
LOCATION:NY
END:VEVENT
BEGIN:VEVENT
DTSTART;TZID=America/New_York:20150710T000000
DTEND;TZID=America/New_York:20150710T000000
DTSTAMP:20260420T231841
CREATED:20150710T040000Z
LAST-MODIFIED:20150710T040000Z
UID:4626-1436486400-1436486400@limba.net
SUMMARY:Ross Ain - Caithness Energy
DESCRIPTION:Ross Ain is president of Caithness Long Island. \nThe discussion will be about the proposed power plant that will be called Caithness 2 and will be adjacent to Gaithness 1\, which has been operating for several years. \nPlease join us
URL:https://limba.net/calendar/ross-ain-caithness-energy/
LOCATION:NY
END:VEVENT
BEGIN:VEVENT
DTSTART;TZID=America/New_York:20150626T000000
DTEND;TZID=America/New_York:20150626T000000
DTSTAMP:20260420T231841
CREATED:20150626T040000Z
LAST-MODIFIED:20150626T040000Z
UID:4622-1435276800-1435276800@limba.net
SUMMARY:Brookhaven Nat Labs
DESCRIPTION:BNL Light Source Tour \nWe have requested a tour and presentation on the Light Source project at Brookhaven National Laboratories and the tour has been approved. \n There are security measures in place all attendees must pre-register and prepay. There will be no money taken at the facility. When coming into the gate you will be directed to the field office to be checked-in You will be directed to the building where our breakfast will be available.  \nWe will start at 8AM and the tour is scheduled for 8:30 Brookhaven National Laboratory is on William Floyd Parkway on the east side of the road and is north of the Long Island Expressway
URL:https://limba.net/calendar/brookhaven-nat-labs/
LOCATION:NY
END:VEVENT
BEGIN:VEVENT
DTSTART;TZID=America/New_York:20150612T000000
DTEND;TZID=America/New_York:20150612T000000
DTSTAMP:20260420T231841
CREATED:20150612T040000Z
LAST-MODIFIED:20150612T040000Z
UID:4623-1434067200-1434067200@limba.net
SUMMARY:Frank Boulton
DESCRIPTION:Frank Boulton is hosting a meeting at the Bethpage Stadium\, home of the Long Island Ducks located at 3 Couthouse Rd\, Central Islip
URL:https://limba.net/calendar/frank-boulton/
LOCATION:NY
END:VEVENT
END:VCALENDAR