BEGIN:VCALENDAR
VERSION:2.0
PRODID:-//Limba - ECPv6.15.20//NONSGML v1.0//EN
CALSCALE:GREGORIAN
METHOD:PUBLISH
X-WR-CALNAME:Limba
X-ORIGINAL-URL:https://limba.net
X-WR-CALDESC:Events for Limba
REFRESH-INTERVAL;VALUE=DURATION:PT1H
X-Robots-Tag:noindex
X-PUBLISHED-TTL:PT1H
BEGIN:VTIMEZONE
TZID:America/New_York
BEGIN:DAYLIGHT
TZOFFSETFROM:-0500
TZOFFSETTO:-0400
TZNAME:EDT
DTSTART:20250309T070000
END:DAYLIGHT
BEGIN:STANDARD
TZOFFSETFROM:-0400
TZOFFSETTO:-0500
TZNAME:EST
DTSTART:20251102T060000
END:STANDARD
BEGIN:DAYLIGHT
TZOFFSETFROM:-0500
TZOFFSETTO:-0400
TZNAME:EDT
DTSTART:20260308T070000
END:DAYLIGHT
BEGIN:STANDARD
TZOFFSETFROM:-0400
TZOFFSETTO:-0500
TZNAME:EST
DTSTART:20261101T060000
END:STANDARD
BEGIN:DAYLIGHT
TZOFFSETFROM:-0500
TZOFFSETTO:-0400
TZNAME:EDT
DTSTART:20270314T070000
END:DAYLIGHT
BEGIN:STANDARD
TZOFFSETFROM:-0400
TZOFFSETTO:-0500
TZNAME:EST
DTSTART:20271107T060000
END:STANDARD
END:VTIMEZONE
BEGIN:VEVENT
DTSTART;TZID=America/New_York:20260130T083000
DTEND;TZID=America/New_York:20260130T100000
DTSTAMP:20260420T151225
CREATED:20260113T214315Z
LAST-MODIFIED:20260115T154248Z
UID:46651-1769761800-1769767200@limba.net
SUMMARY:How Government and Small Businesses Can Work Together to Strengthen Our Local Economy With Rebecca Sanin\, Suffolk County Legislator
DESCRIPTION:A lifelong Long Islander\, Ms. Sanin has dedicated her career to advancing meaningful change and advocating for her community. \nSince joining the Suffolk County Legislature in January 2024\, she has built strong partnerships with community organizations\, small businesses\, and nonprofits\, establishing herself as a vital link between government and the public. Her work has driven tangible progress across health\, environmental\, and human services. \nPreviously\, Ms. Sanin served as President and CEO of the Health and Welfare Council of Long Island\, where she focused on strengthening support systems for families and children across Nassau and Suffolk Counties. She also played a leading role in the successful 2020 Census effort\, helping secure fair federal funding and representation for Long Island. \nMs. Sanin later served as Assistant Deputy County Executive under Suffolk County Executive Steve Bellone\, helping coordinate the county’s response to Superstorm Sandy and leading initiatives to improve county operations. She also chaired the Suffolk County Task Force to Prevent Family Violence\, advancing policies to protect county employees from harassment\, discrimination\, and workplace violence.
URL:https://limba.net/calendar/rebecca-sanin-suffolk-county-legislator/
LOCATION:Candlelight Diner\, 56 Veterans Memorial Hwy\, Commack\, NY\, 11725\, United States
CATEGORIES:Breakfast Forum
ATTACH;FMTTYPE=image/png:https://limba.net/wp-content/uploads/2026/01/R_Sanin_photo.png
END:VEVENT
END:VCALENDAR