BEGIN:VCALENDAR
VERSION:2.0
PRODID:-//Limba - ECPv6.15.20//NONSGML v1.0//EN
CALSCALE:GREGORIAN
METHOD:PUBLISH
X-WR-CALNAME:Limba
X-ORIGINAL-URL:https://limba.net
X-WR-CALDESC:Events for Limba
REFRESH-INTERVAL;VALUE=DURATION:PT1H
X-Robots-Tag:noindex
X-PUBLISHED-TTL:PT1H
BEGIN:VTIMEZONE
TZID:America/New_York
BEGIN:DAYLIGHT
TZOFFSETFROM:-0500
TZOFFSETTO:-0400
TZNAME:EDT
DTSTART:20240310T070000
END:DAYLIGHT
BEGIN:STANDARD
TZOFFSETFROM:-0400
TZOFFSETTO:-0500
TZNAME:EST
DTSTART:20241103T060000
END:STANDARD
BEGIN:DAYLIGHT
TZOFFSETFROM:-0500
TZOFFSETTO:-0400
TZNAME:EDT
DTSTART:20250309T070000
END:DAYLIGHT
BEGIN:STANDARD
TZOFFSETFROM:-0400
TZOFFSETTO:-0500
TZNAME:EST
DTSTART:20251102T060000
END:STANDARD
BEGIN:DAYLIGHT
TZOFFSETFROM:-0500
TZOFFSETTO:-0400
TZNAME:EDT
DTSTART:20260308T070000
END:DAYLIGHT
BEGIN:STANDARD
TZOFFSETFROM:-0400
TZOFFSETTO:-0500
TZNAME:EST
DTSTART:20261101T060000
END:STANDARD
END:VTIMEZONE
BEGIN:VEVENT
DTSTART;TZID=America/New_York:20250912T083000
DTEND;TZID=America/New_York:20250912T100000
DTSTAMP:20260420T223112
CREATED:20250711T135052Z
LAST-MODIFIED:20250730T161020Z
UID:46471-1757665800-1757671200@limba.net
SUMMARY:Shaping the Future of Innovation\, Access\, and Academic Excellence With Dr. Edward Bonahue\, President\, Suffolk County Community College
DESCRIPTION:Dr. Ed Bonahue was appointed President of Suffolk County Community College in April 2021 and assumed leadership in June 2021. He is the seventh president of the college\, the largest community college in the State University of New York (SUNY) system. \nUnder Dr. Bonahue’s leadership\, SUNY Suffolk has recommitted itself to a mission of open access\, academic excellence\, equity\, and expansion of the workforce and continuing education divisions. The college now serves over 26\,000 credit students\, with several thousand more in English language and workforce and continuing education programs. \nThe college has joined SUNY in implementing free community college for adult New Yorkers through the SUNY Reconnect program. The program provides free tuition to a range of high-demand programs for students 25 to 55 years old who have not yet earned a degree. \nTo better serve the healthcare sector\, the college launched a new degree program in Surgical Technology in 2024 and is currently working to expand Nursing enrollment by 20%. SUNY Suffolk is also the first and only community college on Long Island with partnerships allowing graduates to transfer first into bachelor’s and then Doctor of Veterinary Medicine (DVM)\, Medical Doctor (MD) or Doctor of Pharmacy (PharmD) degrees. \nIn addition to offering comprehensive arts and sciences and preprofessional classes for undergraduates in over 100 majors\, the college has also established new short-term certificate programs in many fields.
URL:https://limba.net/calendar/dr-edward-bonahue/
LOCATION:Candlelight Diner\, 56 Veterans Memorial Hwy\, Commack\, NY\, 11725\, United States
CATEGORIES:Breakfast Forum
ATTACH;FMTTYPE=image/jpeg:https://limba.net/wp-content/uploads/2025/07/Dr-Bonahue.jpg
END:VEVENT
END:VCALENDAR