BEGIN:VCALENDAR
VERSION:2.0
PRODID:-//Limba - ECPv6.15.20//NONSGML v1.0//EN
CALSCALE:GREGORIAN
METHOD:PUBLISH
X-WR-CALNAME:Limba
X-ORIGINAL-URL:https://limba.net
X-WR-CALDESC:Events for Limba
REFRESH-INTERVAL;VALUE=DURATION:PT1H
X-Robots-Tag:noindex
X-PUBLISHED-TTL:PT1H
BEGIN:VTIMEZONE
TZID:America/New_York
BEGIN:DAYLIGHT
TZOFFSETFROM:-0500
TZOFFSETTO:-0400
TZNAME:EDT
DTSTART:20240310T070000
END:DAYLIGHT
BEGIN:STANDARD
TZOFFSETFROM:-0400
TZOFFSETTO:-0500
TZNAME:EST
DTSTART:20241103T060000
END:STANDARD
BEGIN:DAYLIGHT
TZOFFSETFROM:-0500
TZOFFSETTO:-0400
TZNAME:EDT
DTSTART:20250309T070000
END:DAYLIGHT
BEGIN:STANDARD
TZOFFSETFROM:-0400
TZOFFSETTO:-0500
TZNAME:EST
DTSTART:20251102T060000
END:STANDARD
BEGIN:DAYLIGHT
TZOFFSETFROM:-0500
TZOFFSETTO:-0400
TZNAME:EDT
DTSTART:20260308T070000
END:DAYLIGHT
BEGIN:STANDARD
TZOFFSETFROM:-0400
TZOFFSETTO:-0500
TZNAME:EST
DTSTART:20261101T060000
END:STANDARD
END:VTIMEZONE
BEGIN:VEVENT
DTSTART;TZID=America/New_York:20250131T083000
DTEND;TZID=America/New_York:20250131T100000
DTSTAMP:20260421T124450
CREATED:20250115T160835Z
LAST-MODIFIED:20250115T160843Z
UID:45892-1738312200-1738317600@limba.net
SUMMARY:Importance of Freight Transportation
DESCRIPTION:DIRECTOR OF SALES AND MARKETING\, NEW YORK & ATLANTIC RAILWAY\nJOHN GLEESON \nJohn Gleeson is the Director of Sales and Marketing at New York & Atlantic Railway\, where he is committed to advancing sustainable freight solutions and reducing reliance on heavy truck transportation. With nearly 20 years of experience in the rail industry\, he has played a key role in optimizing rail operations\, developing shipping facilities\, and implementing innovative logistics strategies. His career includes managing transportation fleets for major companies and overseeing service operations for railcar leasing firms. A Chicago native\, Gleeson holds a B.A. in Communications from Loyola University Chicago.
URL:https://limba.net/calendar/importance-of-freight-transportation/
LOCATION:Candlelight Diner\, 56 Veterans Memorial Hwy\, Commack\, NY\, 11725\, United States
CATEGORIES:Breakfast Forum
ATTACH;FMTTYPE=image/jpeg:https://limba.net/wp-content/uploads/2025/01/john-gleeson-jan-2023.jpg
END:VEVENT
END:VCALENDAR