BEGIN:VCALENDAR
VERSION:2.0
PRODID:-//Limba - ECPv6.15.20//NONSGML v1.0//EN
CALSCALE:GREGORIAN
METHOD:PUBLISH
X-ORIGINAL-URL:https://limba.net
X-WR-CALDESC:Events for Limba
REFRESH-INTERVAL;VALUE=DURATION:PT1H
X-Robots-Tag:noindex
X-PUBLISHED-TTL:PT1H
BEGIN:VTIMEZONE
TZID:America/New_York
BEGIN:DAYLIGHT
TZOFFSETFROM:-0500
TZOFFSETTO:-0400
TZNAME:EDT
DTSTART:20230312T070000
END:DAYLIGHT
BEGIN:STANDARD
TZOFFSETFROM:-0400
TZOFFSETTO:-0500
TZNAME:EST
DTSTART:20231105T060000
END:STANDARD
BEGIN:DAYLIGHT
TZOFFSETFROM:-0500
TZOFFSETTO:-0400
TZNAME:EDT
DTSTART:20240310T070000
END:DAYLIGHT
BEGIN:STANDARD
TZOFFSETFROM:-0400
TZOFFSETTO:-0500
TZNAME:EST
DTSTART:20241103T060000
END:STANDARD
BEGIN:DAYLIGHT
TZOFFSETFROM:-0500
TZOFFSETTO:-0400
TZNAME:EDT
DTSTART:20250309T070000
END:DAYLIGHT
BEGIN:STANDARD
TZOFFSETFROM:-0400
TZOFFSETTO:-0500
TZNAME:EST
DTSTART:20251102T060000
END:STANDARD
END:VTIMEZONE
BEGIN:VEVENT
DTSTART;TZID=America/New_York:20240920T083000
DTEND;TZID=America/New_York:20240920T100000
DTSTAMP:20260421T200047
CREATED:20240731T143028Z
LAST-MODIFIED:20240808T125006Z
UID:45722-1726821000-1726826400@limba.net
SUMMARY:Nassau County Executive Bruce Blakeman
DESCRIPTION:LIMBA is hosting this important meeting at the De Seversky Mansion. We expect a substantial  response and therefore we recommend early registration. \nNassau County Executive Bruce A. Blakeman\, elected on November 2\, 2021\, brings extensive experience in government and homeland security. His administration focuses on fixing the property tax assessment system and enhancing police resources to combat rising crime rates. Previously\, as a Hempstead Town Councilman\, County Executive Blakeman consistently voted to cut property taxes and approved fiscally responsible budgets\, earning the town high Wall Street credit ratings. \nCounty Executive Blakeman’s tenure saw the creation of the Town’s first Compliance Officer and the appointment of a former federal prosecutor as Town Attorney to protect taxpayer money. He strengthened laws to prevent drug proliferation in communities. As a Commissioner of the Port Authority of New York and New Jersey post-9/11\, he fought to secure vital infrastructure. \nA staunch advocate for law enforcement\, County Executive Blakeman held roles with the New York Police Chief’s Benevolent Association and the Federal Law Enforcement Officers Foundation. As a former Presiding Officer of the County Legislature\, he cut $40 million in excessive spending and reduced political appointees’ salaries. He also championed environmental conservation\, downtown business improvements\, and established the Hewlett House breast cancer resource center. County Executive Blakeman is also a practicing attorney and a graduate of California Western Law School and Arizona State University. \n 
URL:https://limba.net/calendar/bruce-blakeman/
LOCATION:NYIT de Seversky Mansion\, 1 Northern Boulevard\, Old Westbury\, NY\, 11568-8000\, United States
CATEGORIES:Breakfast Forum
ATTACH;FMTTYPE=image/jpeg:https://limba.net/wp-content/uploads/2024/07/Nassau_County_Execcutive_Blakeman_Headshot.jpg
END:VEVENT
END:VCALENDAR